BEGIN:VCALENDAR
VERSION:2.0
PRODID:-//JASPER SOMSEN - ECPv6.15.20//NONSGML v1.0//EN
CALSCALE:GREGORIAN
METHOD:PUBLISH
X-WR-CALNAME:JASPER SOMSEN
X-ORIGINAL-URL:https://www.jaspersomsen.com
X-WR-CALDESC:Events for JASPER SOMSEN
REFRESH-INTERVAL;VALUE=DURATION:PT1H
X-Robots-Tag:noindex
X-PUBLISHED-TTL:PT1H
BEGIN:VTIMEZONE
TZID:UTC
BEGIN:STANDARD
TZOFFSETFROM:+0000
TZOFFSETTO:+0000
TZNAME:UTC
DTSTART:20240101T000000
END:STANDARD
END:VTIMEZONE
BEGIN:VEVENT
DTSTART;TZID=UTC:20251016T200000
DTEND;TZID=UTC:20251016T230000
DTSTAMP:20260422T102648
CREATED:20250827T130113Z
LAST-MODIFIED:20250827T130113Z
UID:7405-1760644800-1760655600@www.jaspersomsen.com
SUMMARY:Leiden (NL) - Jasper Somsen Invites ... Anton Goudsmit
DESCRIPTION:Jazz in de Kamer | Info & Tickets
URL:https://www.jaspersomsen.com/event/leiden-nl-jasper-somsen-invites-anton-goudsmit/
CATEGORIES:Jasper Somsen Invites Anton Goudsmit
END:VEVENT
BEGIN:VEVENT
DTSTART;VALUE=DATE:20250317
DTEND;VALUE=DATE:20250318
DTSTAMP:20260422T102648
CREATED:20250221T092628Z
LAST-MODIFIED:20250221T104822Z
UID:6932-1742169600-1742255999@www.jaspersomsen.com
SUMMARY:InJazz Radio (live) - Jasper Somsen Invites Anton Goudsmit
DESCRIPTION:InJazz Radio | More info (time t.b.a.)
URL:https://www.jaspersomsen.com/event/jasper-somsen-anton-goudsmit/
CATEGORIES:Jasper Somsen Invites Anton Goudsmit
END:VEVENT
END:VCALENDAR